
BEGIN:VCALENDAR
VERSION:2.0
PRODID:-//l-azimut.ch//NONSGML v1.0//FR
BEGIN:VEVENT
UID:69e5ecdf5873d@l-azimut.ch
DTSTAMP:20260420T090743Z
DTSTART;TZID=Europe/Zurich:20241108T203000
DTEND;TZID=Europe/Zurich:20241108T223000
SUMMARY:Yoann Provenzano â€¢ Â« Le spectacle est permanent Â
 »
DESCRIPTION:Page de lâ€™Ã©vÃ©nement : https://l-azimut.ch/evenement/yoann
 -provenzano/\n\nYoann Provenzano\n\nÂ« Le spectacle est permanent Â»\n\nY
 oann Provenzano nous livre son regard candide et naÃ¯f sur le quotidien. 
 Ã€ lâ€™aube dâ€™une trentaine non dÃ©sirÃ©e\, il sâ€™encastre avec panach
 e dans des sujets de sociÃ©tÃ© brÃ»lants comme le nudisme\, les films tri
 stes et la surprenante longÃ©vitÃ© de lâ€™Ãªtre humain malgrÃ© son immens
 e bÃªtise.\nDurant plus dâ€™une heure\, lâ€™humoriste nous ouvre les port
 es de son esprit et nous emmÃ¨ne dans son univers loufoque\, absurde et b
 ienveillant qui le caractÃ©rise si bien. Dans ce spectacle\, on rit\, on 
 pleure\, on sâ€™Ã©tonne\, on sâ€™ennuie\, et surtout\, on vit\, parce quâ
 €™il est lÃ \, le vÃ©ritable spectacle permanent.\nLe Â« Spectacle est pe
 rmanent Â»\, câ€™est une ode Ã  la contemplation de ce magnifique spectac
 le quâ€™est la vie !\n\nPremiÃ¨re partie : Adrien Laplana\n\nAdrien Lapla
 na\, improvisateur de haut niveau\, est devenu humoriste il y a 4 ans. Co
 mÃ©dien et chroniqueur radio\, câ€™est surtout dans le stand up quâ€™il s
 e produit Ã  travers les plus belles scÃ¨nes de Suisse romande.\nAdrien i
 ncarne un humour absurde et bouillonnant. Pour traiter ses thÃ¨mes et par
 tager ses blagues\, il ne sâ€™impose aucune limite. Du stand-up classique
  aux sketchs et personnages\, tout peut y passer.\n\nHumour\n\nPortes : 1
 9:45\n\nCHF 30.-\n\nEnfant\, Ã©tudiant\, AVS\, AI: CHF 25.-\n\nLieu : L'A
 zimut\, Av. de la Gare 111\, 1470 Estavayer-le-Lac\n\nPlan : https://maps
 .app.goo.gl/qNaUFhhwmV5q7jbM
 7
LOCATION:L'Azimut\, Av. de la Gare 111\, 1470 Estavayer-le-La
 c
URL:https://l-azimut.ch/evenement/yoann-provenzano/
END:VEVENT
END:VCALENDAR
