
BEGIN:VCALENDAR
VERSION:2.0
PRODID:-//l-azimut.ch//NONSGML v1.0//FR
BEGIN:VEVENT
UID:69e72f44e1747@l-azimut.ch
DTSTAMP:20260421T080316Z
DTSTART;TZID=Europe/Zurich:20231201T200000
DTEND;TZID=Europe/Zurich:20231201T220000
SUMMARY:Projection publique du CVCE • Films et diaporama
 s
DESCRIPTION:Page de l’événement : https://l-azimut.ch/evenement/proje
 ction-publique-du-cvce/\n\nProjection publique du CVCE\n\nFilms et diapor
 amas\n\nLe HIB chauffé par le lac\n\n\n\nLa crèches aux cinq sens\n\n\n
 \nLe pêcheur Avni 4 h du matin\n\n\n\nHumANDROIDE\n\n\n\nSciage à l’a
 ncienne\n\n\n\nSauvons Bambi\n\n\n\nAu fil des saisons\n\n\n\nL’automne
  dans les sous-bois\n\n\n\nDécouverte d’Estavayer\n\n\n\nSur les route
 s de la Laponie\n\n\n\nLes ours racontent\n\n\n\nRosée et gouttes d’ea
 u\n\nPhoto & Vidéo\n\nPortes : 19h30\n\nEntrée libre\n\nSite officiel :
  https://www.cvce.ch/\n\nLieu : L'Azimut\, Av. de la Gare 111\, 1470 Esta
 vayer-le-Lac\n\nPlan : https://maps.app.goo.gl/qNaUFhhwmV5q7jbM
 7
LOCATION:L'Azimut\, Av. de la Gare 111\, 1470 Estavayer-le-La
 c
URL:https://l-azimut.ch/evenement/projection-publique-du-cvce/
END:VEVENT
END:VCALENDAR
