
BEGIN:VCALENDAR
VERSION:2.0
PRODID:-//l-azimut.ch//NONSGML v1.0//FR
BEGIN:VEVENT
UID:69eb5b4d5568f@l-azimut.ch
DTSTAMP:20260424T120013Z
DTSTART;TZID=Europe/Zurich:20260430T200000
DTEND;TZID=Europe/Zurich:20260430T220000
SUMMARY:In the Mood for love
  
DESCRIPTION:Page de l’événement : https://l-azimut.ch/evenement/in-th
 e-mood-for-love/\n\nIn the Mood for love \n\nUn film de Wong Kar-wai\, av
 ec Maggie Tony Chiu-Wai Leung\, Ping Lam Siu\, Tung Cho ‘Joe’ Cheung\
 ,Rebecca Pan\, Hong-Kong – 2000 – 98 min\nL’azimut vous invite à p
 longer dans l’atmosphère envoûtante du Hong Kong des années 1960 ave
 c In the Mood for Love\, chef-d’œuvre du cinéaste Wong Kar-wai. Le fi
 lm raconte la rencontre de M. Chow et Mme Chan\, deux voisins trahis par 
 leurs conjoints respectifs. Dans la retenue et le non-dit\, une relation 
 singulière naît\, faite de gestes subtils\, de regards échangés et de
  silences lourds de désir.\nWong Kar-wai signe une œuvre où chaque pla
 n devient une peinture\, où la musique de Shigeru Umebayashi accompagne 
 les émotions avec une mélancolie poignante. Le film explore avec délic
 atesse l’amour impossible\, la solitude et la beauté des sentiments in
 avoués.\nPlus qu’une romance\, In the Mood for Love est un voyage sens
 oriel : lumières tamisées\, costumes élégants\, cadrages soignés. Un
 e immersion dans l’intimité des personnages qui fait de ce film une ex
 périence cinématographique inoubliable.\n\nRomance / Drame\n\nPortes : 
 19:30\n\nCHF 10.-\n\n(tarif unique)\n\nLieu : L'Azimut\, Av. de la Gare 1
 11\, 1470 Estavayer-le-Lac\n\nPlan : https://maps.app.goo.gl/qNaUFhhwmV5q
 7jbM
 7
LOCATION:L'Azimut\, Av. de la Gare 111\, 1470 Estavayer-le-La
 c
URL:https://l-azimut.ch/evenement/in-the-mood-for-love/
END:VEVENT
END:VCALENDAR
